BEGIN:VCALENDAR
VERSION:2.0
PRODID:-//www.wargamer.lt - ECPv6.15.20//NONSGML v1.0//EN
CALSCALE:GREGORIAN
METHOD:PUBLISH
X-WR-CALNAME:www.wargamer.lt
X-ORIGINAL-URL:https://wargamer.lt
X-WR-CALDESC:Events for www.wargamer.lt
REFRESH-INTERVAL;VALUE=DURATION:PT1H
X-Robots-Tag:noindex
X-PUBLISHED-TTL:PT1H
BEGIN:VTIMEZONE
TZID:Europe/Moscow
BEGIN:STANDARD
TZOFFSETFROM:+0300
TZOFFSETTO:+0300
TZNAME:MSK
DTSTART:20240101T000000
END:STANDARD
END:VTIMEZONE
BEGIN:VEVENT
DTSTART;VALUE=DATE:20250419
DTEND;VALUE=DATE:20250420
DTSTAMP:20260422T055610
CREATED:20250301T131253Z
LAST-MODIFIED:20250301T131312Z
UID:15627-1745020800-1745107199@wargamer.lt
SUMMARY:WH40K Kill Team: Strategic Duo Showdown
DESCRIPTION:Overview \nGet ready for an exciting twist on the classic KT event! This time\, we’re shaking things up with a 2-player team format designed to enhance strategy\, teamwork\, and excitement. Form a duo\, strategize together\, and outsmart your opponents in a dynamic and tactical competition. \nSchedule \nStart Time: 8:00 AM \nFormat: 4 rounds\, each lasting 2 hours \nLunch Break: Included in the ticket price\, served after Round 2 \nEnd Time: Approximately 6:30 PM \nTime Activity \n\n8:00 AM – 8:30 AM Check-in & Setup\n8:30 AM – 10:30 AM Round 1\n10:45 AM – 12:45 PM Round 2\n12:45 PM – 1:45 PM Lunch Break\n1:45 PM – 3:45 PM Round 3\n4:00 PM – 6:00 PM Round 4\n6:15 PM Announcement of Winners\n\nFormat & Rules \nTeam Composition: Teams consist of 2 players each. Collaborate with your teammate to maximize your combined strengths and minimize weaknesses. \nRoll-Off and Tactical Choices: At the start of each round\, teams perform a Roll-Off. \nThe winner of the Roll-Off selects one of the following strategic options: \nPairings: Decide which KT faces off against which opponent. \nMap Selection: Choose who plays on Oct and who plays on Volkus\, including the specific layout. \nPrimary Mission Selection: Choose the primary mission for one team member from a pool of 3 missions. Loser of the Roll-Off selects from the 2 remaining options. The final option is then randomized\, keeping a layer of unpredictability and excitement. \nTicket Information \nTicket Price: 30 Euro per player (60 euro per team)\n+ Includes: Lunch to keep you energized and focused throughout the event! \nExclusive Rewards for Early Registrants! The first players to register for our upcoming Warhammer 40\,000 Kill Team event will receive special gaming accessory – measuring tool! \nGrand Prize for the Winning Team: Kill Team Starter Set – Equip yourself with everything you need to dominate the battlefield! \nEvent Date\nSaturday\, April 19\, 2025
URL:https://wargamer.lt/event/wh40k-kill-team-strategic-duo-showdown/
LOCATION:Wargamer Club\, Šv. Stepono gatvė 5\, Vilnius\, 01139\, Lithuania
CATEGORIES:Kill-team,Wh40k
ATTACH;FMTTYPE=image/png:https://wargamer.lt/wp-content/uploads/2025/03/Tournament-4.png
END:VEVENT
END:VCALENDAR